BEGIN:VCALENDAR
VERSION:2.0
PRODID:-//pretix//pretix.eu//
BEGIN:VTIMEZONE
TZID:Europe/Vienna
BEGIN:STANDARD
DTSTART:20001029T040000
RRULE:FREQ=YEARLY;BYDAY=-1SU;BYMONTH=10
TZNAME:CET
TZOFFSETFROM:+0200
TZOFFSETTO:+0100
END:STANDARD
BEGIN:DAYLIGHT
DTSTART:20000326T030000
RRULE:FREQ=YEARLY;BYDAY=-1SU;BYMONTH=3
TZNAME:CEST
TZOFFSETFROM:+0100
TZOFFSETTO:+0200
END:DAYLIGHT
END:VTIMEZONE
BEGIN:VEVENT
UID:pretix-fx-altacher-sommer-3209707@tickets.fortix.dev
DTSTART;TZID=Europe/Vienna:20220708T170000
DTEND;TZID=Europe/Vienna:20220708T210000
DESCRIPTION:Tickets: https://tickets.fortix.dev/altacher-sommer/3209707/\nV
 eranstalter: Fortix GmbH
DTSTAMP:20260424T013436Z
LOCATION:Jugendtreff BackUp#1
SUMMARY:School out Party [Gratis]
END:VEVENT
END:VCALENDAR
